BEGIN:VCALENDAR
VERSION:2.0
PRODID:-//Plone.org//NONSGML plone.app.event//EN
X-WR-TIMEZONE:Brazil/East
BEGIN:VEVENT
SUMMARY:Solenidade de entrega de medalhas da OBMEP
DTSTART;TZID=Brazil/East;VALUE=DATE-TIME:20250717T140000
DTEND;TZID=Brazil/East;VALUE=DATE-TIME:20250717T150000
DTSTAMP;VALUE=DATE-TIME:20260421T222254Z
UID:61605520c64c43018b2b46c5d7573480@www.cocal.pi.leg.br
CREATED;VALUE=DATE-TIME:20250716T174603Z
LAST-MODIFIED;VALUE=DATE-TIME:20250716T174658Z
LOCATION:Câmara Municipal de Cocal
URL:https://www.cocal.pi.leg.br/imprensa/agenda-de-eventos/solenidade-de-e
 ntrega-de-medalhas-da-obmep
END:VEVENT
BEGIN:VTIMEZONE
TZID:Brazil/East
X-LIC-LOCATION:Brazil/East
BEGIN:STANDARD
DTSTART;VALUE=DATE-TIME:20250215T230000
TZNAME:BRT
TZOFFSETFROM:-0200
TZOFFSETTO:-0300
END:STANDARD
END:VTIMEZONE
END:VCALENDAR
